BEGIN:VCALENDAR
VERSION:2.0
PRODID:-//American Shooting Centers - ECPv6.15.20//NONSGML v1.0//EN
CALSCALE:GREGORIAN
METHOD:PUBLISH
X-WR-CALNAME:American Shooting Centers
X-ORIGINAL-URL:https://americanshootingcenters.com
X-WR-CALDESC:Events for American Shooting Centers
REFRESH-INTERVAL;VALUE=DURATION:PT1H
X-Robots-Tag:noindex
X-PUBLISHED-TTL:PT1H
BEGIN:VTIMEZONE
TZID:UTC
BEGIN:STANDARD
TZOFFSETFROM:+0000
TZOFFSETTO:+0000
TZNAME:UTC
DTSTART:20240101T000000
END:STANDARD
END:VTIMEZONE
BEGIN:VEVENT
DTSTART;TZID=UTC:20250904T080000
DTEND;TZID=UTC:20250904T170000
DTSTAMP:20260424T134949
CREATED:20250130T171620Z
LAST-MODIFIED:20250409T194548Z
UID:4383-1756972800-1757005200@americanshootingcenters.com
SUMMARY:Houston Metro Clay Shoot & Event
DESCRIPTION:Join other champions of the Second Amendment for dinner\, games\, auctions\, and fun with a chance to win exclusive NRA guns\, gear\, décor\, and collectibles! \n  \nRegister Now – Save Your Spot or Become a Sponsor! \nContact\nGabe Cortez\n(281) 798-3189\ngabecortez@usa.net\n\n\nAdditional Event Details\nJoin us for our 1st Annual Clay Shoot & Event!\nCome to shoot and stay for the event or join us for lunch and the event…\nShooters will enjoy a morning on the ASC course and join us for lunch/event and non-shooters will be able to join us for traditional Friends event activities: raffles\, games\, auction!\n\nMake a day of it…do both! Get your team together\, check out the sponsor opportunities\, and make plans to support the Second Amendment this spring!\n\n\nPage 2 Details
URL:https://americanshootingcenters.com/event/houston-metro-clay-shoot-event/
LOCATION:American Shooting Centers\, 16500 Westheimer Pkwy\, Houston\, TX\, 77082\, United States
ATTACH;FMTTYPE=image/jpeg:https://americanshootingcenters.com/wp-content/uploads/2025/04/2025-TXE-3-Event-pg-1-new-day.jpg
END:VEVENT
END:VCALENDAR