BEGIN:VCALENDAR
VERSION:2.0
PRODID:-//American Shooting Centers - ECPv6.15.20//NONSGML v1.0//EN
CALSCALE:GREGORIAN
METHOD:PUBLISH
X-ORIGINAL-URL:https://americanshootingcenters.com
X-WR-CALDESC:Events for American Shooting Centers
REFRESH-INTERVAL;VALUE=DURATION:PT1H
X-Robots-Tag:noindex
X-PUBLISHED-TTL:PT1H
BEGIN:VTIMEZONE
TZID:UTC
BEGIN:STANDARD
TZOFFSETFROM:+0000
TZOFFSETTO:+0000
TZNAME:UTC
DTSTART:20240101T000000
END:STANDARD
END:VTIMEZONE
BEGIN:VEVENT
DTSTART;TZID=UTC:20250906T090000
DTEND;TZID=UTC:20250906T090000
DTSTAMP:20260424T134521
CREATED:20250730T165208Z
LAST-MODIFIED:20250730T185113Z
UID:4515-1757149200-1757149200@americanshootingcenters.com
SUMMARY:Ayden's Wings Love To The Rescue - Helice Match
DESCRIPTION:Join us at American Shooting Centers on September 6\, 2025 for the Ayden’s Wings Helice event benefiting Shriners Children’s Texas Hospital\nThe Helice will feature a 5 bird warm up event and 30 bird main event. There will be a SIDE GAME for each event. \n\n35 bird Entry Pricing: $250.00\nOptional 5 Bird game $50.00\n(90% goes to 1st place all ties split pot)\n\nRegister/Buy Tickets Now >>\nView/Print Flyer\nDetails:\nAYDEN’S WINGS – LOVE TO THE RESCUE\nSat Sep 6\, 2025 8:00 AM – 2:30 PMAmerican Shooting Center\, 16500 Westheimer Pkwy\, Houston\, 77082 \nNet Proceeds of Helice Shooting Event and Competition go to Benefit Shriners Children’s Texas – Galveston. \nNon-alcoholic beverages will be provided along with covered seating. \n1oz load and shot size no larger than 7 1/2. \nThe mission of Shriners Children’s is to provide the highest quality care to children with orthopedic\, neuromuscular\, colorectal and gastrointestinal conditions\, burn injuries\, craniofacial conditions and spinal cord injuries. Our experienced medical teams also provide spine care\, sports medicine and other special health care needs within a compassionate\, family centered and collaborative care environment. \nWho’s Ayden poem (A gifted 18-year-old intelligent\, hardworking young man whose life was cut short) \nTo My Dearest Ayden\n(A Mom’s poem) \nYou left too soon\, it’s hard to bear\,\nThe house feels quiet\, you’re not there.\nEighteen years of joy and grace\,\nNow love lives on in your place. \nYou made us smile\, you chased each goal\,\nA steady heart\, a fiery soul.\nFrom Tech to trucks\, your dreams were true\nAnd all we are is shaped by you. \nWe saw two cardinals in the sky\,\nA sign you’re near\, you’re flying high.\nForever loved\, forever you\nI miss you\, Ayden. Love you too. \nArabia Shriners Sportsmen is a 501(c)10 organization. To obtain tax related information contact: \nRon Whitmore (713) 320-6173 jrwhitmore@sbcglobal.net \nRick Stephanow (713) 705-3629 bargebroker@yahoo.com
URL:https://americanshootingcenters.com/event/aydens-wings-love-to-the-rescue-helice-match/
LOCATION:American Shooting Centers\, 16500 Westheimer Pkwy\, Houston\, TX\, 77082\, United States
ATTACH;FMTTYPE=image/jpeg:https://americanshootingcenters.com/wp-content/uploads/2025/07/Helice-Flyer-9-6-25-529x685-1.jpg
ORGANIZER;CN="ASC Events Team":MAILTO:support@americanshootingcenters.com
END:VEVENT
END:VCALENDAR