BEGIN:VCALENDAR
VERSION:2.0
PRODID:-//American Shooting Centers - ECPv6.15.20//NONSGML v1.0//EN
CALSCALE:GREGORIAN
METHOD:PUBLISH
X-WR-CALNAME:American Shooting Centers
X-ORIGINAL-URL:https://americanshootingcenters.com
X-WR-CALDESC:Events for American Shooting Centers
REFRESH-INTERVAL;VALUE=DURATION:PT1H
X-Robots-Tag:noindex
X-PUBLISHED-TTL:PT1H
BEGIN:VTIMEZONE
TZID:UTC
BEGIN:STANDARD
TZOFFSETFROM:+0000
TZOFFSETTO:+0000
TZNAME:UTC
DTSTART:20240101T000000
END:STANDARD
END:VTIMEZONE
BEGIN:VEVENT
DTSTART;TZID=UTC:20251107T083000
DTEND;TZID=UTC:20251107T083000
DTSTAMP:20260424T104809
CREATED:20251029T213051Z
LAST-MODIFIED:20251029T213112Z
UID:4568-1762504200-1762504200@americanshootingcenters.com
SUMMARY:Benjamin Clark Wallace - Clays for a Cause
DESCRIPTION:Join us Nov. 7\, 2025 for the BCW Clays for a Cause event \nRegister at POPministry.org
URL:https://americanshootingcenters.com/event/benjamin-clark-wallace-clays-for-a-cause/
LOCATION:American Shooting Centers\, 16500 Westheimer Pkwy\, Houston\, TX\, 77082\, United States
ATTACH;FMTTYPE=image/jpeg:https://americanshootingcenters.com/wp-content/uploads/2025/10/BCWC_C4AC_Flyer-Sponsorship-Levels102225_Page_1.jpg
ORGANIZER;CN="ASC Events Team":MAILTO:support@americanshootingcenters.com
END:VEVENT
END:VCALENDAR