BEGIN:VCALENDAR
VERSION:2.0
PRODID:-//American Shooting Centers - ECPv6.15.20//NONSGML v1.0//EN
CALSCALE:GREGORIAN
METHOD:PUBLISH
X-ORIGINAL-URL:https://americanshootingcenters.com
X-WR-CALDESC:Events for American Shooting Centers
REFRESH-INTERVAL;VALUE=DURATION:PT1H
X-Robots-Tag:noindex
X-PUBLISHED-TTL:PT1H
BEGIN:VTIMEZONE
TZID:UTC
BEGIN:STANDARD
TZOFFSETFROM:+0000
TZOFFSETTO:+0000
TZNAME:UTC
DTSTART:20250101T000000
END:STANDARD
END:VTIMEZONE
BEGIN:VEVENT
DTSTART;TZID=UTC:20260206T093000
DTEND;TZID=UTC:20260206T160000
DTSTAMP:20260420T123924
CREATED:20251025T005128Z
LAST-MODIFIED:20251025T005128Z
UID:4565-1770370200-1770393600@americanshootingcenters.com
SUMMARY:IFMA Houston Chapter
DESCRIPTION:Meeting/Event Information\n\n2.06.2026 3rd Annual IFMA Houston Clay Shoot Benefitting U.S. VETS – Houston\nRegister Now\n\nTickets\n\n$3\,500.00 Title Sponsor includes 2 teams of 4 shooters\, premier signage & banner\, speak at ceremony\n$2\,000.00 FOOD SPONSOR includes 1 team of 4 shooters and signage at food statons\n$1\,500.00 BEVERAGE SPONSOR includes 1 team of 4 shooters\, signage at beverage stations\n$1\,500.00 RAFFLE ITEM SPONSOR includes signage at raffle stations\n$1\,500.00 RAFFLE ITEM SPONSOR\, signage at raffle stations\n$750.00 AWARDS SPONSOR includes signage and recognition at awards ceremony\n$1\,200.00 TEAM OF 4 SHOOTERS\, includes breakfast\, lunch and drinks\, loaner shotgun if needed and ammo\n$500.00 STATION SPONSOR signage at each station..opportunity to set up and give away swag\, snacks\, etc(no alcohol)\n$3\,500.00 Title Sponsor:2 teams of 4 shooters\, premier signage and banner; speak at ceremony\n$2\,000.00 FOOD SPONSOR includes 1 team of 4 shooters and signage at food stations\n$1\,500.00 BEVERAGE SPONSOR includes 1 team of 4 shooters and signage at beverage stations\n$750.00 AWARDS SPONSOR inlcudes signage and recognition at awards ceremony\n$500.00 STATION SPONSOR signage at each station..opportunity to set up and give away swag\, snacks\, etc(no alcohol)\n$1\,200.00 TEAM OF 4 SHOOTERS\, includes breakfast\, lunch and drinks\, loaner shotgun if needed and ammo\n$3\,500.00 Title Sponsor:2 teams of 4 shooters\, premier signage and banner; speak at ceremony\n$300.00 Individual Shooter\n$50.00 Spectator\n$50.00 Spectator\n$20.00 Advance Pair in the Air Tikets 1 ticket\n$40.00 Advance Pair in the Air Tickets 3 tickets\n$40.00 Advance Pair in the Air Tickets 3 tickets\n$20.00 Advance Pair in the Air Tickets 1 ticket\n$20.00 Advance Two Many Flurry tickets…1 ticket\n$40.00 Advance Two Many Flurry tickets…3 tickets\n$40.00 Advance Two Many Flurry tickets…3 tickets\n$20.00 Advance Two Many Flurry tickets…1 ticket
URL:https://americanshootingcenters.com/event/ifma-houston-chapter/
LOCATION:American Shooting Centers\, 16500 Westheimer Pkwy\, Houston\, TX\, 77082\, United States
ATTACH;FMTTYPE=image/jpeg:https://americanshootingcenters.com/wp-content/uploads/2025/10/ifma-event-2026-685.jpg
END:VEVENT
END:VCALENDAR