BEGIN:VCALENDAR
VERSION:2.0
PRODID:-//American Shooting Centers - ECPv6.15.20//NONSGML v1.0//EN
CALSCALE:GREGORIAN
METHOD:PUBLISH
X-ORIGINAL-URL:https://americanshootingcenters.com
X-WR-CALDESC:Events for American Shooting Centers
REFRESH-INTERVAL;VALUE=DURATION:PT1H
X-Robots-Tag:noindex
X-PUBLISHED-TTL:PT1H
BEGIN:VTIMEZONE
TZID:UTC
BEGIN:STANDARD
TZOFFSETFROM:+0000
TZOFFSETTO:+0000
TZNAME:UTC
DTSTART:20240101T000000
END:STANDARD
END:VTIMEZONE
BEGIN:VEVENT
DTSTART;TZID=UTC:20251025T080000
DTEND;TZID=UTC:20251025T170000
DTSTAMP:20260424T110939
CREATED:20250905T141713Z
LAST-MODIFIED:20250905T142147Z
UID:4546-1761379200-1761411600@americanshootingcenters.com
SUMMARY:Delta Waterfowl Clay Shoot Tournament
DESCRIPTION:DELTA  WATERFOWL TEXAS  SALT  MARSH  CHAPTER\nSATURDAY  OCTOBER  25.  2025\nCheck-in begins at 8 am Shooting begins at 9 am \nREGISTRATION DEADLINE 10/1/2025 \nAmerican Shooting Center \n16500 Westheimer pkwy \nHouston\, TX 77082 \nVisit Delta Waterfowl Facebook Page \nTeam of 4 Entry – $1\,000 Individual Entry – $250\nIndividual shooters will be assigned to a team of 4 at check-in\nIncluded for each registered shooter: 3 boxes of shells (12/20 ga)\n74 clays\nLunch & Drinks (beer and water provided)\nNon-Shooter $50\nLunch and drinks included \nSponsorship Opportunity\nTo sponsor the event\, please contact Andrew at \n(281) 607-6995 or andrewjschlemmerl@gmail.com \n\nRegistration\nTo register for the shoot please contact Andrew at (281) 607-6995 or send the following form to andrewjschlemmerl@gmail.com \nASC safety waiver will need to be completed by each participant at registration. \nFor any questions\, please contact Andrew directly or reach out to us via lnstagram or Facebook. \nView event details: Delta waterfowl Clay Shoot
URL:https://americanshootingcenters.com/event/delta-waterfowl-clay-shoot-tournament/
LOCATION:American Shooting Centers\, 16500 Westheimer Pkwy\, Houston\, TX\, 77082\, United States
ATTACH;FMTTYPE=image/jpeg:https://americanshootingcenters.com/wp-content/uploads/2025/09/Delta-waterfowl-Clay-Shoot-1.jpg
ORGANIZER;CN="Delta Waterfowl Texas Salt Marsh Chapter":MAILTO:andrewjschlemmerl@gmail.com
END:VEVENT
BEGIN:VEVENT
DTSTART;TZID=UTC:20251030T160000
DTEND;TZID=UTC:20251030T193000
DTSTAMP:20260424T110939
CREATED:20250828T184540Z
LAST-MODIFIED:20250828T184540Z
UID:4544-1761840000-1761852600@americanshootingcenters.com
SUMMARY:Shucking Clays for Cancer
DESCRIPTION:Join us for Shucking Clays for Cancer on October 30. 2025\nTime: 4 p.m. Until Sunset\n\n$1\,000/Team ($250 per shooter)\nAnno included\n12 and 20 gauge – loaner guns available\nEar & Eye Protection Provided\n\nGet Details: Email us at boatwrightshelby@gmail.com
URL:https://americanshootingcenters.com/event/shucking-clays-for-cancer/
LOCATION:American Shooting Centers\, 16500 Westheimer Pkwy\, Houston\, TX\, 77082\, United States
ATTACH;FMTTYPE=image/jpeg:https://americanshootingcenters.com/wp-content/uploads/2025/08/shucking-clays-083025.jpg
ORGANIZER;CN="ASC Events Team":MAILTO:support@americanshootingcenters.com
END:VEVENT
END:VCALENDAR